{"text_format":"1","workbook":"xlsx","n_sheets":2,"sheets":["First trim","Second trim"],"not_rendered":{"charts":0,"images":1,"macros":0,"external_links":0,"defined_names":0,"comments":0,"pivot_tables":0},"unopened":[],"bounds":{"document_bytes":16777216,"sheet_cells":100000,"rows_first":2000,"rows_last":500,"rows_between":2000,"halvings":0,"cell_chars":16384,"cell_head_chars":4096},"cells_cut":0,"cells_raw":0,"read":"whole","date_system":"1900"}

{"sheet":"First trim","index":0,"n_rows":27,"n_cols":45,"rows_kept":27,"cut":false,"hidden":false,"merged":[[0,0,0,4],[0,5,0,12],[0,13,0,36],[2,1,2,6],[2,7,2,12],[2,13,2,18],[2,19,2,24],[2,31,2,36],[2,25,2,30],[24,27,24,28],[25,27,25,28],[23,24,23,28],[24,24,24,26],[25,24,25,26]]}
["Serial Number :",null,null,null,null,null,null,null,null,null,null,null,null,"First trim"]
[]
[null,"A",null,null,null,null,null,"B",null,null,null,null,null,"C",null,null,null,null,null,"D",null,null,null,null,null,"E",null,null,null,null,null,"BRAKES"]
[null,"factory","LEFT","RIGHT","left","right","symet","factory","LEFT","RIGHT","left","right","symet","factory","LEFT","RIGHT","left","right","symet","factory","LEFT","RIGHT","left","right","symet","factory","LEFT","RIGHT","left","right","symet","factory","LEFT","RIGHT","left","right","symet",null,null,"A","B","C","D","E","Brake"]
[1,{"$f":"AN5+$AB$25","v":8693.4},null,null,{"$f":"C5-B5","v":-8693.4},{"$f":"D5-B5","v":-8693.4},{"$f":"C5-D5","v":0},{"$f":"AO5+$AB$25","v":8595.4},null,null,{"$f":"I5-H5","v":-8595.4},{"$f":"J5-H5","v":-8595.4},{"$f":"I5-J5","v":0},{"$f":"AP5+$AB$25","v":8618.5},null,null,{"$f":"O5-N5","v":-8618.5},{"$f":"P5-N5","v":-8618.5},{"$f":"O5-P5","v":0},{"$f":"AQ5+$AB$25","v":8800.2999999999993},null,null,{"$f":"U5-T5","v":-8800.2999999999993},{"$f":"V5-T5","v":-8800.2999999999993},{"$f":"U5-V5","v":0},{"$f":"AR5+$AB$25","v":8919.7000000000007},null,null,{"$f":"AA5-Z5","v":-8919.7000000000007},{"$f":"AB5-Z5","v":-8919.7000000000007},{"$f":"AA5-AB5","v":0},{"$f":"AS5+$AB$26","v":9375.9},null,null,{"$f":"(AG5-AF5)+$AB$26","v":-9375.9},{"$f":"(AH5-AF5)+$AB$26","v":-9375.9},{"$f":"AG5-AH5","v":0},null,1,8693.4,8595.4,8618.5,8800.2999999999993,8919.7000000000007,9375.9]
[2,8611.7000000000007,null,null,{"$f":"C6-B6","v":-8611.7000000000007},{"$f":"D6-B6","v":-8611.7000000000007},{"$f":"C6-D6","v":0},8517.1,null,null,{"$f":"I6-H6","v":-8517.1},{"$f":"J6-H6","v":-8517.1},{"$f":"I6-J6","v":0},8540.6,null,null,{"$f":"O6-N6","v":-8540.6},{"$f":"P6-N6","v":-8540.6},{"$f":"O6-P6","v":0},8711.9,null,null,{"$f":"U6-T6","v":-8711.9},{"$f":"V6-T6","v":-8711.9},{"$f":"U6-V6","v":0},8792.2999999999993,null,null,{"$f":"AA6-Z6","v":-8792.2999999999993},{"$f":"AB6-Z6","v":-8792.2999999999993},{"$f":"AA6-AB6","v":0},{"$f":"AS6+$AB$26","v":9084.9},null,null,-9084.9,-9084.9,{"$f":"AG6-AH6","v":0},null,2,8611.7000000000007,8517.1,8540.6,8711.9,8792.2999999999993,9084.9]
[3,8592.2000000000007,null,null,-8592.2000000000007,-8592.2000000000007,0,8495.7999999999993,null,null,-8495.7999999999993,-8495.7999999999993,0,8517.6,null,null,-8517.6,-8517.6,0,8672.2000000000007,null,null,-8672.2000000000007,-8672.2000000000007,0,8755.4,null,null,-8755.4,-8755.4,0,{"$f":"AS7+$AB$26","v":8909.2000000000007},null,null,-8909.2000000000007,-8909.2000000000007,0,null,3,8592.2000000000007,8495.7999999999993,8517.6,8672.2000000000007,8755.4,8909.2000000000007]
[4,8573.5,null,null,{"$f":"C8-B8","v":-8573.5},{"$f":"D8-B8","v":-8573.5},{"$f":"C8-D8","v":0},8476.2000000000007,null,null,{"$f":"I8-H8","v":-8476.2000000000007},{"$f":"J8-H8","v":-8476.2000000000007},{"$f":"I8-J8","v":0},8504.7999999999993,null,null,{"$f":"O8-N8","v":-8504.7999999999993},{"$f":"P8-N8","v":-8504.7999999999993},{"$f":"O8-P8","v":0},8631.7000000000007,null,null,{"$f":"U8-T8","v":-8631.7000000000007},{"$f":"V8-T8","v":-8631.7000000000007},{"$f":"U8-V8","v":0},8774.7000000000007,null,null,-8774.7000000000007,-8774.7000000000007,0,8945.2999999999993,null,null,-8945.2999999999993,-8945.2999999999993,{"$f":"AG8-AH8","v":0},null,4,8573.5,8476.2000000000007,8504.7999999999993,8631.7000000000007,8774.7000000000007,8945.2999999999993]
[5,8574.6,null,null,-8574.6,-8574.6,0,8476,null,null,-8476,-8476,0,8509.1,null,null,-8509.1,-8509.1,0,8633.7000000000007,null,null,-8633.7000000000007,-8633.7000000000007,0,8759.1,null,null,-8759.1,-8759.1,0,8746.7000000000007,null,null,-8746.7000000000007,-8746.7000000000007,0,null,5,8574.6,8476,8509.1,8633.7000000000007,8759.1,8746.7000000000007]
[6,8620.9,null,null,-8620.9,-8620.9,0,8527,null,null,-8527,-8527,0,8562.9,null,null,-8562.9,-8562.9,0,8663.5,null,null,-8663.5,-8663.5,0,8720.2000000000007,null,null,-8720.2000000000007,-8720.2000000000007,0,8554,null,null,-8554,-8554,0,null,6,8620.9,8527,8562.9,8663.5,8720.2000000000007,8554]
[7,8542.7000000000007,null,null,-8542.7000000000007,-8542.7000000000007,0,8461.7999999999993,null,null,-8461.7999999999993,-8461.7999999999993,0,8507.6,null,null,-8507.6,-8507.6,0,8636.7999999999993,null,null,-8636.7999999999993,-8636.7999999999993,0,8674.6,null,null,-8674.6,-8674.6,0,8494.2000000000007,null,null,-8494.2000000000007,-8494.2000000000007,0,null,7,8542.7000000000007,8461.7999999999993,8507.6,8636.7999999999993,8674.6,8494.2000000000007]
[8,8499.2000000000007,null,null,-8499.2000000000007,-8499.2000000000007,0,8427,null,null,-8427,-8427,0,8472.5,null,null,-8472.5,-8472.5,0,8591.4,null,null,{"$f":"U12-T12","v":-8591.4},{"$f":"V12-T12","v":-8591.4},{"$f":"U12-V12","v":0},8670.5,null,null,-8670.5,-8670.5,0,8559.2000000000007,null,null,-8559.2000000000007,-8559.2000000000007,0,null,8,8499.2000000000007,8427,8472.5,8591.4,8670.5,8559.2000000000007]
[9,8453.7000000000007,null,null,-8453.7000000000007,-8453.7000000000007,0,8568.6,null,null,-8568.6,{"$f":"J13-H13","v":-8568.6},{"$f":"I13-J13","v":0},8445.2000000000007,null,null,-8445.2000000000007,{"$f":"P13-N13","v":-8445.2000000000007},{"$f":"O13-P13","v":0},8561,null,null,-8561,-8561,0,null,null,null,null,null,null,8346.7999999999993,null,null,-8346.7999999999993,-8346.7999999999993,0,null,9,8453.7000000000007,8568.6,8445.2000000000007,8561,null,8346.7999999999993]
[10,8455.9,null,null,-8455.9,-8455.9,0,8395.7999999999993,null,null,-8395.7999999999993,{"$f":"J14-H14","v":-8395.7999999999993},{"$f":"I14-J14","v":0},8455.2000000000007,null,null,-8455.2000000000007,{"$f":"P14-N14","v":-8455.2000000000007},{"$f":"O14-P14","v":0},8570.4,null,null,-8570.4,-8570.4,0,null,null,null,null,null,null,8247.7999999999993,null,null,-8247.7999999999993,-8247.7999999999993,0,null,10,8455.9,8395.7999999999993,8455.2000000000007,8570.4,null,8247.7999999999993]
[11,8300,null,null,-8300,-8300,0,8252.2999999999993,null,null,-8252.2999999999993,-8252.2999999999993,0,8285.6,null,null,-8285.6,{"$f":"P15-N15","v":-8285.6},{"$f":"O15-P15","v":0},8422.6,null,null,-8422.6,-8422.6,0,null,null,null,null,null,null,8143.8,null,null,-8143.8,-8143.8,0,null,11,8300,8252.2999999999993,8285.6,8422.6,null,8143.8]
[12,8212.5,null,null,-8212.5,-8212.5,0,8176,null,null,-8176,-8176,0,8211.4,null,null,-8211.4,-8211.4,0,8288.5,null,null,-8288.5,-8288.5,0,null,null,null,null,null,null,8074.4,null,null,-8074.4,-8074.4,0,null,12,8212.5,8176,8211.4,8288.5,null,8074.4]
[13,8160.6,null,null,-8160.6,-8160.6,0,8127.7,null,null,-8127.7,-8127.7,0,8164.1,null,null,-8164.1,-8164.1,0,8166.5,null,null,-8166.5,-8166.5,0,null,null,null,null,null,null,8063.6,null,null,-8063.6,-8063.6,0,null,13,8160.6,8127.7,8164.1,8166.5,null,8063.6]
[14,8044.4,null,null,{"$f":"C18-B18","v":-8044.4},{"$f":"D18-B18","v":-8044.4},{"$f":"C18-D18","v":0},8009.8,null,null,{"$f":"I18-H18","v":-8009.8},{"$f":"J18-H18","v":-8009.8},{"$f":"I18-J18","v":0},8059.2,null,null,{"$f":"O18-N18","v":-8059.2},{"$f":"P18-N18","v":-8059.2},{"$f":"O18-P18","v":0},8062.8,null,null,-8062.8,-8062.8,0,null,null,null,null,null,null,null,null,null,null,null,null,null,14,8044.4,8009.8,8059.2,8062.8]
[15,7993,null,null,-7993,-7993,0,7944.7,null,null,-7944.7,-7944.7,0,7989.1,null,null,-7989.1,-7989.1,0,null,null,null,null,null,null,null,null,null,null,null,null,null,null,null,null,null,null,null,15,7993,7944.7,7989.1]
[16,7969.5,null,null,-7969.5,-7969.5,0,7899.4,null,null,-7899.4,-7899.4,0,7950.4,null,null,-7950.4,-7950.4,0,null,null,null,null,null,null,null,null,null,null,null,null,null,null,null,null,null,null,null,16,7969.5,7899.4,7950.4]
[17,7757.8,null,null,-7757.8,-7757.8,0,7742.4,null,null,-7742.4,-7742.4,0,7836.8,null,null,-7836.8,-7836.8,0,null,null,null,null,null,null,null,null,null,null,null,null,null,null,null,null,null,null,null,17,7757.8,7742.4,7836.8]
[18,7653.9,null,null,-7653.9,-7653.9,0,7701.6,null,null,-7701.6,-7701.6,0,7797.9,null,null,-7797.9,-7797.9,0,null,null,null,null,null,null,null,null,null,null,null,null,null,null,null,null,null,null,null,18,7653.9,7701.6,7797.9]
[]
[null,null,null,null,null,null,null,null,null,null,null,null,null,null,null,null,null,null,null,null,null,null,"AS+",30,"OFFSET"]
[null,null,null,null,null,null,null,null,null,null,null,null,null,null,null,null,null,null,null,null,null,null,"AS",22,"Risers"]
[null,null,null,null,null,null,null,null,null,null,null,null,null,null,null,null,null,null,null,null,null,null,"DL",15,"Brake"]
[null,null,null,null,null,null,null,null,null,null,null,null,null,null,null,null,null,null,null,null,null,null,"L",0]

{"sheet":"Second trim","index":1,"n_rows":28,"n_cols":38,"rows_kept":28,"cut":false,"hidden":false,"merged":[[0,13,0,30],[0,5,0,12],[0,0,0,4],[2,1,2,6],[2,7,2,12],[2,13,2,18],[2,19,2,24],[2,25,2,30],[23,1,23,4],[23,6,23,9],[23,11,23,14],[23,16,23,19],[20,24,20,27],[21,1,22,9],[21,11,22,19],[21,24,21,25],[21,26,21,27],[22,24,22,25],[22,26,22,27]]}
[null,null,null,null,null,null,null,null,null,null,null,null,null,"Second trim"]
[]
[null,"A",null,null,null,null,null,"B",null,null,null,null,null,"C",null,null,null,null,null,"D",null,null,null,null,null,"BRAKES"]
[null,"factory","LEFT","RIGHT","left","right","symet","factory","LEFT","RIGHT","left","right","symet","factory","LEFT","RIGHT","left","right","symet","factory","LEFT","RIGHT","left","right","symet","factory","LEFT","RIGHT","left","right","symet",null,null,"A","B","C","D","Brake"]
[1,{"$f":"AH5+$AA$22","v":8693.4},null,null,{"$f":"C5-B5","v":-8693.4},{"$f":"D5-B5","v":-8693.4},{"$f":"C5-D5","v":0},{"$f":"AI5+$AA$22","v":8595.4},null,null,{"$f":"I5-H5","v":-8595.4},{"$f":"J5-H5","v":-8595.4},{"$f":"I5-J5","v":0},{"$f":"AJ5+$AA$22","v":8618.5},null,null,{"$f":"O5-N5","v":-8618.5},{"$f":"P5-N5","v":-8618.5},{"$f":"O5-P5","v":0},{"$f":"AK5","v":8800.2999999999993},null,null,{"$f":"U5-T5","v":-8800.2999999999993},{"$f":"V5-T5","v":-8800.2999999999993},{"$f":"U5-V5","v":0},{"$f":"AL5","v":9375.9},null,null,{"$f":"(AA5-Z5)+$AA$23","v":-9375.9},{"$f":"(AB5-Z5)+$AA$23","v":-9375.9},{"$f":"AA5-AB5","v":0},null,1,{"$f":"'First trim'!AN5","v":8693.4},{"$f":"'First trim'!AO5","v":8595.4},{"$f":"'First trim'!AP5","v":8618.5},{"$f":"'First trim'!AQ5","v":8800.2999999999993},{"$f":"'First trim'!AS5","v":9375.9}]
[2,{"$f":"AH6+$AA$22","v":8611.7000000000007},null,null,{"$f":"C6-B6","v":-8611.7000000000007},{"$f":"D6-B6","v":-8611.7000000000007},{"$f":"C6-D6","v":0},{"$f":"AI6+$AA$22","v":8517.1},null,null,{"$f":"I6-H6","v":-8517.1},{"$f":"J6-H6","v":-8517.1},{"$f":"I6-J6","v":0},{"$f":"AJ6+$AA$22","v":8540.6},null,null,{"$f":"O6-N6","v":-8540.6},{"$f":"P6-N6","v":-8540.6},{"$f":"O6-P6","v":0},{"$f":"AK6","v":8711.9},null,null,{"$f":"U6-T6","v":-8711.9},{"$f":"V6-T6","v":-8711.9},{"$f":"U6-V6","v":0},{"$f":"AL6","v":9084.9},null,null,-9084.9,-9084.9,{"$f":"AA6-AB6","v":0},null,2,{"$f":"'First trim'!AN6","v":8611.7000000000007},{"$f":"'First trim'!AO6","v":8517.1},{"$f":"'First trim'!AP6","v":8540.6},{"$f":"'First trim'!AQ6","v":8711.9},{"$f":"'First trim'!AS6","v":9084.9}]
[3,8592.2000000000007,null,null,-8592.2000000000007,-8592.2000000000007,0,8495.7999999999993,null,null,-8495.7999999999993,-8495.7999999999993,0,8517.6,null,null,-8517.6,-8517.6,0,{"$f":"AK7","v":8672.2000000000007},null,null,-8672.2000000000007,-8672.2000000000007,0,{"$f":"AL7","v":8909.2000000000007},null,null,-8909.2000000000007,-8909.2000000000007,0,null,3,{"$f":"'First trim'!AN7","v":8592.2000000000007},{"$f":"'First trim'!AO7","v":8495.7999999999993},{"$f":"'First trim'!AP7","v":8517.6},{"$f":"'First trim'!AQ7","v":8672.2000000000007},{"$f":"'First trim'!AS7","v":8909.2000000000007}]
[4,8542.7000000000007,null,null,-8542.7000000000007,-8542.7000000000007,0,8461.7999999999993,null,null,-8461.7999999999993,-8461.7999999999993,0,8507.6,null,null,-8507.6,-8507.6,0,8636.7999999999993,null,null,-8636.7999999999993,-8636.7999999999993,0,8494.2000000000007,null,null,-8494.2000000000007,-8494.2000000000007,0,null,4,{"$f":"'First trim'!AN11","v":8542.7000000000007},{"$f":"'First trim'!AO11","v":8461.7999999999993},{"$f":"'First trim'!AP11","v":8507.6},{"$f":"'First trim'!AQ11","v":8636.7999999999993},{"$f":"'First trim'!AS11","v":8494.2000000000007}]
[5,8499.2000000000007,null,null,-8499.2000000000007,-8499.2000000000007,0,8427,null,null,-8427,-8427,0,8472.5,null,null,-8472.5,-8472.5,0,8591.4,null,null,-8591.4,-8591.4,0,8559.2000000000007,null,null,-8559.2000000000007,-8559.2000000000007,0,null,5,{"$f":"'First trim'!AN12","v":8499.2000000000007},{"$f":"'First trim'!AO12","v":8427},{"$f":"'First trim'!AP12","v":8472.5},{"$f":"'First trim'!AQ12","v":8591.4},{"$f":"'First trim'!AS12","v":8559.2000000000007}]
[6,8453.7000000000007,null,null,-8453.7000000000007,-8453.7000000000007,0,8568.6,null,null,-8568.6,{"$f":"J10-H10","v":-8568.6},{"$f":"I10-J10","v":0},8445.2000000000007,null,null,-8445.2000000000007,{"$f":"P10-N10","v":-8445.2000000000007},{"$f":"O10-P10","v":0},8561,null,null,-8561,-8561,0,8346.7999999999993,null,null,-8346.7999999999993,-8346.7999999999993,0,null,6,{"$f":"'First trim'!AN13","v":8453.7000000000007},{"$f":"'First trim'!AO13","v":8568.6},{"$f":"'First trim'!AP13","v":8445.2000000000007},{"$f":"'First trim'!AQ13","v":8561},{"$f":"'First trim'!AS13","v":8346.7999999999993}]
[7,8455.9,null,null,-8455.9,-8455.9,0,8395.7999999999993,null,null,-8395.7999999999993,{"$f":"J11-H11","v":-8395.7999999999993},{"$f":"I11-J11","v":0},8455.2000000000007,null,null,-8455.2000000000007,{"$f":"P11-N11","v":-8455.2000000000007},{"$f":"O11-P11","v":0},8570.4,null,null,-8570.4,-8570.4,0,8247.7999999999993,null,null,-8247.7999999999993,-8247.7999999999993,0,null,7,{"$f":"'First trim'!AN14","v":8455.9},{"$f":"'First trim'!AO14","v":8395.7999999999993},{"$f":"'First trim'!AP14","v":8455.2000000000007},{"$f":"'First trim'!AQ14","v":8570.4},{"$f":"'First trim'!AS14","v":8247.7999999999993}]
[8,8300,null,null,-8300,-8300,0,8252.2999999999993,null,null,-8252.2999999999993,-8252.2999999999993,0,8285.6,null,null,-8285.6,{"$f":"P12-N12","v":-8285.6},{"$f":"O12-P12","v":0},8422.6,null,null,-8422.6,-8422.6,0,8143.8,null,null,-8143.8,-8143.8,0,null,8,{"$f":"'First trim'!AN15","v":8300},{"$f":"'First trim'!AO15","v":8252.2999999999993},{"$f":"'First trim'!AP15","v":8285.6},{"$f":"'First trim'!AQ15","v":8422.6},{"$f":"'First trim'!AS15","v":8143.8}]
[9,8212.5,null,null,-8212.5,-8212.5,0,8176,null,null,-8176,-8176,0,8211.4,null,null,-8211.4,-8211.4,0,null,null,null,null,null,null,8074.4,null,null,-8074.4,-8074.4,0,null,9,{"$f":"'First trim'!AN16","v":8212.5},{"$f":"'First trim'!AO16","v":8176},{"$f":"'First trim'!AP16","v":8211.4},null,{"$f":"'First trim'!AS16","v":8074.4}]
[10,8160.6,null,null,-8160.6,-8160.6,0,8127.7,null,null,-8127.7,-8127.7,0,8164.1,null,null,-8164.1,-8164.1,0,null,null,null,null,null,null,8063.6,null,null,-8063.6,-8063.6,0,null,10,{"$f":"'First trim'!AN17","v":8160.6},{"$f":"'First trim'!AO17","v":8127.7},{"$f":"'First trim'!AP17","v":8164.1},null,{"$f":"'First trim'!AS17","v":8063.6}]
[11,8044.4,null,null,-8044.4,-8044.4,0,8009.8,null,null,-8009.8,-8009.8,0,8059.2,null,null,-8059.2,-8059.2,0,null,null,null,null,null,null,{"$f":"AL15","v":0},null,null,{"$f":"(AA15-Z15)+$AA$23","v":0},{"$f":"(AB15-Z15)+$AA$23","v":0},0,null,11,{"$f":"'First trim'!AN18","v":8044.4},{"$f":"'First trim'!AO18","v":8009.8},{"$f":"'First trim'!AP18","v":8059.2},null,{"$f":"'First trim'!AS18","v":0}]
[12,7993,null,null,-7993,-7993,0,7944.7,null,null,-7944.7,-7944.7,0,7989.1,null,null,-7989.1,-7989.1,0,null,null,null,null,null,null,null,null,null,null,null,null,null,12,{"$f":"'First trim'!AN19","v":7993},{"$f":"'First trim'!AO19","v":7944.7},{"$f":"'First trim'!AP19","v":7989.1}]
[13,7969.5,null,null,-7969.5,-7969.5,0,7899.4,null,null,-7899.4,-7899.4,0,7950.4,null,null,-7950.4,-7950.4,0,null,null,null,null,null,null,null,null,null,null,null,null,null,13,{"$f":"'First trim'!AN20","v":7969.5},{"$f":"'First trim'!AO20","v":7899.4},{"$f":"'First trim'!AP20","v":7950.4}]
[14,7757.8,null,null,-7757.8,-7757.8,0,7742.4,null,null,-7742.4,-7742.4,0,7836.8,null,null,-7836.8,-7836.8,0,null,null,null,null,null,null,null,null,null,null,null,null,null,14,{"$f":"'First trim'!AN21","v":7757.8},{"$f":"'First trim'!AO21","v":7742.4},{"$f":"'First trim'!AP21","v":7836.8}]
[15,7653.9,null,null,-7653.9,-7653.9,0,7701.6,null,null,-7701.6,-7701.6,0,7797.9,null,null,-7797.9,-7797.9,0,null,null,null,null,null,null,null,null,null,null,null,null,null,15,{"$f":"'First trim'!AN22","v":7653.9},{"$f":"'First trim'!AO22","v":7701.6},{"$f":"'First trim'!AP22","v":7797.9}]
[]
[null,null,null,null,null,null,null,null,null,null,null,null,null,null,null,null,null,null,null,null,null,null,"AS+",30,"OFFSET"]
[null,"Group average",null,null,null,null,null,null,null,null,null,"Setting loops on links",null,null,null,null,null,null,null,null,null,null,"AS",22,"Risers"]
[null,null,null,null,null,null,null,null,null,null,null,null,null,null,null,null,null,null,null,null,null,null,"DL",15,"Brake"]
[null,"LEFT",null,null,null,null,"RIGHT",null,null,null,null,"LEFT",null,null,null,null,"RIGHT",null,null,null,null,null,"L",0]
[null,"Stabilo",3,2,1,null,1,2,3,"Stabilo",null,"Stabilo",3,2,1,null,1,2,3,"Stabilo"]
[null,null,{"$f":"AVERAGE(E13:E17)","v":-8076},{"$f":"AVERAGE(E9:E12)","v":-8427.2000000000007},{"$f":"AVERAGE(E5:E8)","v":-8610},"A",{"$f":"AVERAGE(F5:F8)","v":-8610},{"$f":"AVERAGE(F9:F12)","v":-8427.2000000000007},{"$f":"AVERAGE(F13:F17)","v":-8076},null,null,null,"DL","DL","DL","A","DL","DL","DL"]
[null,{"$f":"AVERAGE(E18:E19,K18:K19,Q18:Q19)","v":-7748.4000000000005},{"$f":"AVERAGE(K13:K17,Q13:Q17)","v":-8053.1799999999985},{"$f":"AVERAGE(K9:K12)","v":-8410.9249999999993},{"$f":"AVERAGE(K5:K8)","v":-8517.5249999999996},"B",{"$f":"AVERAGE(L5:L8)","v":-8517.5249999999996},{"$f":"AVERAGE(L9:L12)","v":-8410.9249999999993},{"$f":"AVERAGE(L13:L17,R13:R17)","v":-8053.1799999999985},{"$f":"AVERAGE(F18:F19,L18:L19,R18:R19)","v":-7748.4000000000005},null,"DL","DL","DL","DL","B","DL","DL","DL","DL"]
[null,null,null,{"$f":"AVERAGE(Q9:Q12,W9:W12)","v":-8475.4875000000011},{"$f":"AVERAGE(Q5:Q8,W5:W8)","v":-8625.6875},"C",{"$f":"AVERAGE(R5:R8,X5:X8)","v":-8625.6875},{"$f":"AVERAGE(R9:R12,X9:X12)","v":-8475.4875000000011},null,null,null,null,null,"DL","DL","C","DL","DL"]